BEGIN:VCALENDAR
VERSION:2.0
PRODID:-//District 5 Toastmasters - ECPv6.13.2.1//NONSGML v1.0//EN
CALSCALE:GREGORIAN
METHOD:PUBLISH
X-WR-CALNAME:District 5 Toastmasters
X-ORIGINAL-URL:https://d5tm.org
X-WR-CALDESC:Events for District 5 Toastmasters
REFRESH-INTERVAL;VALUE=DURATION:PT1H
X-Robots-Tag:noindex
X-PUBLISHED-TTL:PT1H
BEGIN:VTIMEZONE
TZID:America/Los_Angeles
BEGIN:DAYLIGHT
TZOFFSETFROM:-0800
TZOFFSETTO:-0700
TZNAME:PDT
DTSTART:20260308T100000
END:DAYLIGHT
BEGIN:STANDARD
TZOFFSETFROM:-0700
TZOFFSETTO:-0800
TZNAME:PST
DTSTART:20261101T090000
END:STANDARD
END:VTIMEZONE
BEGIN:VEVENT
DTSTART;TZID=America/Los_Angeles:20260425T090000
DTEND;TZID=America/Los_Angeles:20260425T160000
DTSTAMP:20260423T084348
CREATED:20260222T195638Z
LAST-MODIFIED:20260408T013512Z
UID:27152-1777107600-1777132800@d5tm.org
SUMMARY:SAVE THE DATE - District 5 Spring Conference
DESCRIPTION:We’re Coming Together for One FINAL\nDistrict 5 Spring Conference!\nSan Dieguito United\nMethodist Church\n170 Calle Magdalena\nEncinitas CA. 92024 \n🗓️ Saturday\, April 25\, 2026\n⏰ 9:00 AM – 4:00 PM \nMore Exciting Details Are on the Way! \nJoin Us for an Historic & Heartfelt Celebration!\n**D5 Spring Conference Registration**\nONLY $45.00 per person \nREGISTRATION LINK \nNOTE: Prior to submitting payment you will see “Help keep Zeffy free for D5 Toastmasters”(optional) – if you do not wish to make a donation choose “Other” and enter $0.00. We encourage members to make a small donation of $1.00 -$2.00\, if possible. Zeffy is the only platform that is 100% free for nonprofits and relies entirely on optional contributions from donors like you. \nKEYNOTE SPEAKER:\nWorld Champion of Public Speaking – MARK BROWN \nALSO FEATURING…\nTI Accredited Speaker\, Author – Eldonna Lewis Fernandez \nAward-Winning Speaker & Businessman – Bob Dietrich
URL:https://d5tm.org/event/save-the-date-district-5-spring-conference/
END:VEVENT
BEGIN:VEVENT
DTSTART;TZID=America/Los_Angeles:20260514T183000
DTEND;TZID=America/Los_Angeles:20260514T203000
DTSTAMP:20260423T084348
CREATED:20260418T002222Z
LAST-MODIFIED:20260418T010349Z
UID:27190-1778783400-1778790600@d5tm.org
SUMMARY:Founder’s District Council Business Meeting for Elections & Alignment
DESCRIPTION:Please save the date for the upcoming Founder’s District Council meeting:\nWhat: Founders District Business Meeting (Founder’s District\, D5 Toastmasters & D100 – Division S)\nDate: Thursday\, May 14\, 2026\nTime: 6:30–8:30 PM PDT\nLocation: Online (Zoom) \nPlanned Business:\nApproval of the proposed District Alignment\nElection of District Officers for the 2026–2027 term\nIncluded in this message: \nBusiness Meeting Zoom Registration\nhttps://us02web.zoom.us/meeting/register/owTdkk2TRI2U8VEKesyc0A\nDistrict Leadership Committee (DLC) Report Founders-DLC-Report\nCandidate Biographies – Coming Soon! \nNote:\nSeveral elected leadership positions received no nominations. Qualified members who wish to run from the floor at the Business Meeting must declare their intentions to the Group Transition Chair\, Don Griffith no later than May 7\, 2026. \nAdditional details to be sent in the coming days: \nIf you have questions\, please contact Group 2 Transition Chair Don Griffith at donwgriffith13@gmail.com
URL:https://d5tm.org/event/founders-district-council-business-meeting-for-elections-alignment-founders-district-d5-toastmasters-d100-division-s/
END:VEVENT
END:VCALENDAR