BEGIN:VCALENDAR
VERSION:2.0
PRODID:-//District 5 Toastmasters - ECPv6.13.2.1//NONSGML v1.0//EN
CALSCALE:GREGORIAN
METHOD:PUBLISH
X-WR-CALNAME:District 5 Toastmasters
X-ORIGINAL-URL:https://d5tm.org
X-WR-CALDESC:Events for District 5 Toastmasters
REFRESH-INTERVAL;VALUE=DURATION:PT1H
X-Robots-Tag:noindex
X-PUBLISHED-TTL:PT1H
BEGIN:VTIMEZONE
TZID:America/Los_Angeles
BEGIN:DAYLIGHT
TZOFFSETFROM:-0800
TZOFFSETTO:-0700
TZNAME:PDT
DTSTART:20240310T100000
END:DAYLIGHT
BEGIN:STANDARD
TZOFFSETFROM:-0700
TZOFFSETTO:-0800
TZNAME:PST
DTSTART:20241103T090000
END:STANDARD
END:VTIMEZONE
BEGIN:VEVENT
DTSTART;TZID=America/Los_Angeles:20241113T180000
DTEND;TZID=America/Los_Angeles:20241113T193000
DTSTAMP:20260424T063035
CREATED:20241112T011458Z
LAST-MODIFIED:20241112T011600Z
UID:26167-1731520800-1731526200@d5tm.org
SUMMARY:Debunking Pathways Base Camp Workshop!
DESCRIPTION:DEBUNKING PATHWAYS BASE CAMP WORKSHOP! \nBasecamp Workshop by our Educational Standards Training\nCommittee Chair\, Christoph Kubitza. \nNov 13th at 6:00 pm – 7:30 pm \nIf you want to get an edge and be on the ‘Road to Distinguished” please register by clicking on the link below: \nhttps://us06web.zoom.us/meeting/register/tZ0pfu2vpzMsGdM8vNsOpIZJ3QatKOVozwJ2 \nAttending this workshop will be the opportunity to ask your questions about Basecamp and the upgraded Pathways. \nAlso\, here are a couple links you might want to check out: \n– EXPLORE THE NEW BASECAMP\n– BASECAMP USER GUIDE\n– BASECAMP MANAGER GUIDE \nThis workshop will allow you to get great insights for the success of your membership and club.\nTake advantage of this unique opportunity by attending. \nQuestions contact Program Quality Director\, Sureal Sparx at PQD@d5tm.org
URL:https://d5tm.org/event/debunking-pathways-base-camp-workshop/
END:VEVENT
BEGIN:VEVENT
DTSTART;TZID=America/Los_Angeles:20241107T180000
DTEND;TZID=America/Los_Angeles:20241107T203000
DTSTAMP:20260424T063035
CREATED:20241030T164724Z
LAST-MODIFIED:20241031T233253Z
UID:26119-1731002400-1731011400@d5tm.org
SUMMARY:SOUTHERN DIVISION – AREA 1 and 9 Contests
DESCRIPTION:SOUTHERN DIVISION – AREA 1 and 9 \nTable Topics and International Speech Contests \nDate: Thursday\, November 7\, 2024\nTime 6:00 PM to 8:30 PM (PST)\nDownload flyer here: Area_1_Area_9_Flyer \n6:00 PM Room Setup\n6:15 PM Briefing of Functionaries\n6:20 PM Briefing of Contestants\n6:30 PM Contest Begins \n  \nChula Vista Community Church\n301 East J Street\nChula Vista\, CA 91910 \nFor more information contact Area 1 Director Lynette Benitez: lbenitez@toastmasters7.org or Area 9 Director Cece McGee: cmcgee@toastmasters7.org
URL:https://d5tm.org/event/southern-division-area-1-and-9-contests/
END:VEVENT
BEGIN:VEVENT
DTSTART;TZID=America/Los_Angeles:20241021T183000
DTEND;TZID=America/Los_Angeles:20241021T200000
DTSTAMP:20260424T063035
CREATED:20241005T192320Z
LAST-MODIFIED:20241007T232348Z
UID:26014-1729535400-1729540800@d5tm.org
SUMMARY:Online Contest Training - Judging Training
DESCRIPTION:For continued contest support we have added the following sessions for Online Contest Training for Area Directors\, Contest Chairs\, Contestants\, Judges and members wishing to learn more about contests. \nRegister for the sessions you want to attend or register for all sessions. The choice is yours.\nRegistration link: Online Contest Training \nTime for all Session:  6:30pm – 8:00pm \nMonday\, October 21st – Judging Training \nThere will be a Q&A for 15 mins after each presentation \nPLEASE NOTE:\nA minimum of 9 attendees will need to be registered for this session in order to conduct the online training. \nFind contest resources at this link: https://d5tm.org/resources/speech-contests-temp-2/ \nFor more information contact Joyce Persichilli at jpd5dtm@gmail.com
URL:https://d5tm.org/event/online-contest-training-for-area-directors-contest-chairs-contestants-judges-and-members-wishing-to-learn-more-about-contests/
END:VEVENT
BEGIN:VEVENT
DTSTART;TZID=America/Los_Angeles:20241007T183000
DTEND;TZID=America/Los_Angeles:20241007T193000
DTSTAMP:20260424T063035
CREATED:20240922T224841Z
LAST-MODIFIED:20240923T190929Z
UID:25964-1728325800-1728329400@d5tm.org
SUMMARY:Online Event: Maximizing the Impact of Area Directors' Club Visit Reports
DESCRIPTION:MONDAY\, OCTOBER 7\, 2024\n6:30pm – 7:30pm (PDT)\nJoin Us For This Online Event – Register today!\nRegister here for Maximizing the Impact \nMaximizing the Impact Flyer \nMaximizing the Impact of Area Directors’ Club Visit Reports \nAre you an Area Director looking to sharpen your leadership skills and make a real impact on your clubs? Join us for an interactive training session where you’ll learn how to transform your club visit reports into powerful tools for driving club success and supporting district goals. \nThis comprehensive session will cover: \nThe importance of club visit reports and their role in improving club quality and performance.\nA breakdown of the key components of an effective report\, with tips on what to look for during your visits.\nBest practices for preparing\, conducting\, and following up on club visits to foster engagement and growth.\nSolutions to common challenges Area Directors face\, and how to overcome them with confidence.\nHow club visit reports directly contribute to achieving Distinguished Club Program (DCP) goals. \nBy the end of this session\, you’ll have actionable insights and strategies to elevate your club visit reports\, foster stronger relationships\, and help your clubs thrive. Don’t miss this opportunity to enhance your leadership and drive lasting results in your district!
URL:https://d5tm.org/event/maximizing-the-impact-of-area-directors-club-visit-reports/
END:VEVENT
BEGIN:VEVENT
DTSTART;TZID=America/Los_Angeles:20240819T120000
DTEND;TZID=America/Los_Angeles:20240819T130000
DTSTAMP:20260424T063035
CREATED:20240727T050235Z
LAST-MODIFIED:20240727T050235Z
UID:25848-1724068800-1724072400@d5tm.org
SUMMARY:Club Officer Training (COT) Lunchtime [PRESIDENT & VPE]
DESCRIPTION:Lunch Time Club Officer Training – President & VPE\nMonday\, August 19\, 2024\n12:00 pm – 1:00 pm \nRegistration link:\nhttps://us06web.zoom.us/meeting/register/tZEqcOqgrD8rGNXD7WU_DZlPmm4g7-mJgpxL#/registration \nDownload here club officer resource: 1310-Club-Leadership-Handbook \nThose joining the meeting after 12:15 pm will not receive credit. 12:00 pm Log-in/12:05 pm Training begins with a District Update then Breakout rooms for each club officer role. \nNOTE:\n1) If you hold the same club officer role in multiple clubs you will receive credit for the club officer role for your multiple clubs.\n2) If you hold multiple club officer roles you must attend training for each role – i.e. You are a President and SAA. You need to attend training for each of those roles.
URL:https://d5tm.org/event/club-officer-training-cot-lunchtime-president-vpe/
END:VEVENT
BEGIN:VEVENT
DTSTART;TZID=America/Los_Angeles:20240710T180000
DTEND;TZID=America/Los_Angeles:20240710T193000
DTSTAMP:20260424T063035
CREATED:20240525T142826Z
LAST-MODIFIED:20240525T143600Z
UID:25614-1720634400-1720639800@d5tm.org
SUMMARY:Week Day Evening Club Officer Training - VP Membership/VP Public Relations/Treasurer & SAA
DESCRIPTION:Club Officer Training – VP Membership/VP Public Relations/Treasurer & SAA\nWednesday\, July 10\, 2024\n6:00 pm – 7:30 pm \nRegistration link:\nhttps://us06web.zoom.us/meeting/register/tZAkceCsqjMoHNcqeEhacd86d5Xj9FTGeIeO \nDownload here club officer resource: 1310-Club-Leadership-Handbook \n6:00 pm Check-in\, 6:10 pm District Update\, 6:15 pm Club Officer Training. To receive credit you must attend the entire training. You will be placed in separate breakout rooms for Club Officer Training. \nNOTE:\n1) If you hold the same club officer role in multiple clubs you will receive credit for the club officer role for your multiple clubs.\n2) If you hold multiple club officer roles you must attend training for each role – i.e. You are Treasurer and SAA. You need to attend training for each of those roles.
URL:https://d5tm.org/event/weel-day-evening-club-officer-training-vp-membership-vp-public-relations-treasurer-saa/
END:VEVENT
BEGIN:VEVENT
DTSTART;TZID=America/Los_Angeles:20240513T183000
DTEND;TZID=America/Los_Angeles:20240513T193000
DTSTAMP:20260424T063035
CREATED:20240423T055559Z
LAST-MODIFIED:20240511T042451Z
UID:25526-1715625000-1715628600@d5tm.org
SUMMARY:Candidate Showcase
DESCRIPTION:CANDIDATE SHOWCASE \nJoin us on Monday\, May 13\, 2023 at 6:30 pm – 7:30 pm \nMeet the candidates for next year’s leadership team and hear their answers to questions designed to give you a clear picture of their philosophies\, experience\, and plans. \nCandidate Flyers_Rev1\, PQD Flyer\, District Director Bio\, Program Quality Director Bios\, Club Growth Director Bios\, and Division Director Bios \nJoin Zoom Meeting – https://us02web.zoom.us/j/89978957434 \nThis is your opportunity to get to know the candidates and make an informed decision at this year’s District 5 Business Meeting/Elections to be held on Friday\, May 17\, 2024. \nFor more information contact Charley Patton\, DTM PRA
URL:https://d5tm.org/event/candidate-showcase/
END:VEVENT
END:VCALENDAR