BEGIN:VCALENDAR
VERSION:2.0
PRODID:-//District 5 Toastmasters - ECPv6.13.2.1//NONSGML v1.0//EN
CALSCALE:GREGORIAN
METHOD:PUBLISH
X-ORIGINAL-URL:https://d5tm.org
X-WR-CALDESC:Events for District 5 Toastmasters
REFRESH-INTERVAL;VALUE=DURATION:PT1H
X-Robots-Tag:noindex
X-PUBLISHED-TTL:PT1H
BEGIN:VTIMEZONE
TZID:America/Los_Angeles
BEGIN:DAYLIGHT
TZOFFSETFROM:-0800
TZOFFSETTO:-0700
TZNAME:PDT
DTSTART:20250309T100000
END:DAYLIGHT
BEGIN:STANDARD
TZOFFSETFROM:-0700
TZOFFSETTO:-0800
TZNAME:PST
DTSTART:20251102T090000
END:STANDARD
END:VTIMEZONE
BEGIN:VEVENT
DTSTART;TZID=America/Los_Angeles:20250908T120000
DTEND;TZID=America/Los_Angeles:20250908T123000
DTSTAMP:20260423T183423
CREATED:20250902T154943Z
LAST-MODIFIED:20250902T212013Z
UID:26695-1757332800-1757334600@d5tm.org
SUMMARY:LUNCHTIME VIRTUAL CLUB SUCCESS PLAN WORKSHOP
DESCRIPTION:LUNCHTIME VIRTUAL CLUB SUCCESS PLAN WORKSHOP\nwith Ellen Rosas\, Area 1 Director \nMonday\, Sept 8\, 2025\n12:00pm – 12:30pm (PST) \nRegistration link: Club Success Plan Workshop \nDownload Flyer: Lunchtime Club Success Plan Flyer \nCome learn step-by-step how to submit your Club Success Plan – now a requirement for your club to achieve Distinguished Toastmaster Club status. \nWhy Attend?\n– Understand the new requirement\n– Get guided instruction on the submission process\n– Ask questions and get answers \nLet’s set your club up for success this year!
URL:https://d5tm.org/event/26695/
END:VEVENT
BEGIN:VEVENT
DTSTART;TZID=America/Los_Angeles:20250913T083000
DTEND;TZID=America/Los_Angeles:20250913T113000
DTSTAMP:20260423T183423
CREATED:20250702T163105Z
LAST-MODIFIED:20250910T131709Z
UID:26596-1757752200-1757763000@d5tm.org
SUMMARY:INSTALLATION & AWARDS BREAKFAST
DESCRIPTION:INSTALLATION & AWARDS BREAKFAST \nSaturday\, Sept 13\, 2025\n8:30 am to 11:30 am \nJoin us in-person at the Installation & Awards Breakfast as we celebrate the Installation of the 2025-2026 District Team and the achievements of clubs\, members and recognition of the 2024-2025 District Team. \nThis event is SOLD OUT!\nDistrict Officers (Incoming/Outgoing) – FREE\n(DD\, PQD\, CGD\, IPDD\, Administration Manager\, Finance Manager\, Logistics Manager\, Division Directors and Area Directors)\nClub Presidents (In/Out/Continuing) – FREE\nNew DTMs for 2024/2025 – FREE \nClub Officers (In/Out/Continuing) – $10.00\nDistrict Chairs (In/Out/Continuing) – $10.00\nAll others/Guests – $10.00 \n– Installation of the 2025-2026 District Team\n– Recognition of Distinguished\, Select & Presidents Distinguished Clubs\n– Recognition of the 2024-2025 District Team\n– DTMs 2024-2025\n– Area Director of the Year\n– Division Director of the Year\n– Helen Blanchard “Trailblazer Award”\n– Toastmaster of the Year \nLOCATION:\nLa Valle Coastal Club (formerly Morgan Run)\n5690 Cancha De Golf\nRancho Santa Fe\, CA 92091 \n 
URL:https://d5tm.org/event/save-the-date-installation-awards-breakfast/
END:VEVENT
BEGIN:VEVENT
DTSTART;TZID=America/Los_Angeles:20250920T090000
DTEND;TZID=America/Los_Angeles:20250920T150000
DTSTAMP:20260423T183423
CREATED:20250718T192238Z
LAST-MODIFIED:20250920T024056Z
UID:26608-1758358800-1758380400@d5tm.org
SUMMARY:LEVERAGING EXCELLENCE AND DISTINGUISHED CLUBS (LEAD) SHOWCASE - HYBRID EVENT
DESCRIPTION:LEVERAGING EXCELLENCE AND DISTINGUISHED CLUBS (LEAD) SHOWCASE\nJoin us at The LEAD Showcase on September 20th for an incredible event designed to help you build a stronger\, more vibrant club community. This is more than just a workshop—it’s an opportunity to truly embody the mission of Toastmasters. \nSaturday\, Sept 20\, 2025\n9:00 am to 3:00 pm \nFrontwave Credit Union\n1278 Rocky Point Drive\nOceanside CA 92056 \nEvent Theme: Building A Successful And Thriving Club \nZOOM LINK: https://us06web.zoom.us/j/84857824758 \nAll those registered will receive an email the day before the event.\nDownload Flyer: D5 LEAD Showcase Flyer \nWhat You’ll Learn: \nSpeech Contest Training:\nThis session teaches you how to conduct a successful speech contest\, ensuring a fair and organized event for all participants\nDeep Dive into Pathways:\nGain a deeper understanding of the Toastmasters Pathways educational platform\nThe Power of DCP:\nLearn why the Distinguished Club Program (DCP) is essential for your club’s success\nOpen House Madness:\nDiscover the benefits of hosting an open house\, and learn about the leadership opportunities and educational value it brings to your club\nLearn from the Best:\nA keynote speech workshop led by the 2024 World Champion of the International Speech Contest\nSecrets to a Thriving Club:\nHear from a panel of successful club leaders who will share their secrets to success \nBy attending\, you’ll be equipped with the tools to not only make your club stronger but also to change and save lives\, one meeting at a time. For more information contact Program Quality Director\, Alberto Alvarado at aalvarado@toastmasters7.org
URL:https://d5tm.org/event/leadership-symposium-area-contest-training/
END:VEVENT
BEGIN:VEVENT
DTSTART;TZID=America/Los_Angeles:20250922T180000
DTEND;TZID=America/Los_Angeles:20250922T183000
DTSTAMP:20260423T183423
CREATED:20250906T225540Z
LAST-MODIFIED:20250906T230529Z
UID:26716-1758564000-1758565800@d5tm.org
SUMMARY:Virtual Club Success Plan (CSP) Workshop
DESCRIPTION:Monday\, September 22\, 2025\n6:00pm – 6:30pm (PST) \nRegistration link: Club Success Plan Workshop \nDownload Flyer: CSP Workshop Flyer \nJoin Area 1 Director\, Ellen Rosas as she shares How To Submit Your Club Success Plan (CSP) \nCome learn step-by-step how to submit your Club Success Plan – now a requirement for your club to achieve Distinguished Toastmaster Club status. \nWhy Attend?\n– Understand the new requirement\n– Get guided instruction on the submission process\n– Ask questions and get answers \nLet’s set your club up for success this year!
URL:https://d5tm.org/event/26716/
END:VEVENT
BEGIN:VEVENT
DTSTART;TZID=America/Los_Angeles:20250926T183000
DTEND;TZID=America/Los_Angeles:20250926T203000
DTSTAMP:20260423T183423
CREATED:20250919T174648Z
LAST-MODIFIED:20250926T174345Z
UID:26666-1758911400-1758918600@d5tm.org
SUMMARY:DISTRICT 5 VIRTUAL FALL DISTRICT COUNCIL MEETING
DESCRIPTION:DISTRICT 5 VIRTUAL FALL DISTRICT COUNCIL MEETING\nFRIDAY\, SEPT 26\, 2025\n6:30 pm – 6:50 pm (PST) Check-in\n7:00 pm (PST) Meeting Begins\nRegistration link: Fall District Council Meeting \nPlease download and review the 2025_Fall District Council Business Meeting Packet_250926\nBudget Summary 2025-2026 annual-budget \nA QUORUM HAS BEEN MET\nFor the District 5 Virtual Fall District Council Meeting to be held on Friday\, Sept 26\, 2025. Any registrations received the day of the event after 8:00 am will not be counted towards the quorum at this time. \nAt the end of the registration period the Credentials Chair will ensure A) district council members have the correct number of votes and B) we have a quorum (1/3 presidents and vice presidents education). \nProxies are no longer permitted. The Club President and Vice President Education\, are the club’s two voting representatives on the District Council\, are expected to attend and vote at all District Council meetings (Fall/Spring). However\, each club has the option to determine if one of its two representatives will carry the club’s two votes or if both representatives will carry one vote each. \nAll members of District 5 are invited to attend but only members of the District Executive Council will be voting. Any questions contact District Director\, Sureal Sparx\, at DD@d5tm.org
URL:https://d5tm.org/event/district-5-virtual-fall-district-council-meeting/
END:VEVENT
END:VCALENDAR