BEGIN:VCALENDAR
VERSION:2.0
PRODID:-//District 5 Toastmasters - ECPv6.13.2.1//NONSGML v1.0//EN
CALSCALE:GREGORIAN
METHOD:PUBLISH
X-WR-CALNAME:District 5 Toastmasters
X-ORIGINAL-URL:https://d5tm.org
X-WR-CALDESC:Events for District 5 Toastmasters
REFRESH-INTERVAL;VALUE=DURATION:PT1H
X-Robots-Tag:noindex
X-PUBLISHED-TTL:PT1H
BEGIN:VTIMEZONE
TZID:America/Los_Angeles
BEGIN:DAYLIGHT
TZOFFSETFROM:-0800
TZOFFSETTO:-0700
TZNAME:PDT
DTSTART:20250309T100000
END:DAYLIGHT
BEGIN:STANDARD
TZOFFSETFROM:-0700
TZOFFSETTO:-0800
TZNAME:PST
DTSTART:20251102T090000
END:STANDARD
END:VTIMEZONE
BEGIN:VEVENT
DTSTART;TZID=America/Los_Angeles:20251002T180000
DTEND;TZID=America/Los_Angeles:20251002T190000
DTSTAMP:20260423T164029
CREATED:20250928T155918Z
LAST-MODIFIED:20250928T171338Z
UID:26749-1759428000-1759431600@d5tm.org
SUMMARY:CONTEST TRAINING - Session 1: 2025–2026 Rulebook & Roles
DESCRIPTION:Session 1: 2025–2026 Rulebook & Roles\nThursday\, October 2\, 2025\n6:00 pm – 7:00 pm \nRegistration Link: https://us06web.zoom.us/meeting/register/n3pqiozoRnKs0UfGf2aIrw \nDid you know that it takes 20 volunteers to run a contest? \nThis training is for area/division directors\, contest chairs\, contest volunteers/functionaries\, contestants and members who would like to learn more about how a contest is run. \nDistrict 5 will be conducting in-person the International Speech Contest and the Tall Tales Contest\nDistrict 5 Contest Resource Page: https://d5tm.org/resources/speech-contests-temp-2/ \nArea Contest season starts mid-October 2025 to mid-January 2026.\nDivision Contests run March 2026 to April 2026 \nClubs should plan on conducting their club contest or appointing a member to represent their club prior to their scheduled area contest. Contact your Area Director for more information. \nFor more information contact Jennifer Barber-Frazier\, District Contest Training Chair at jbarberfrazier@gmail.com
URL:https://d5tm.org/event/contest-training-session-1-2025-2026-rulebook-roles/
END:VEVENT
BEGIN:VEVENT
DTSTART;TZID=America/Los_Angeles:20251006T180000
DTEND;TZID=America/Los_Angeles:20251006T183000
DTSTAMP:20260423T164029
CREATED:20250928T172947Z
LAST-MODIFIED:20250928T180406Z
UID:26771-1759773600-1759775400@d5tm.org
SUMMARY:CONTEST HOTLINE - Get answers and support
DESCRIPTION:CONTEST HOTLINE – Get answers and support\nOct 6\, 2025 6:00pm – 6:30pm PST \nDates: Oct 6th\, Oct 20th\, Oct 27\, Nov 3rd\, Nov 10th\, and Nov 17th\nZOOM Link: https://us06web.zoom.us/j/85072332604 \nJoin an incredible team of Contest Trainers—Lucy Boyd-Wilson\, Jim McLaughlin\, Jennifer Barber-Fraizer\, Mark Kramer—along with our Area Directors\, Division Directors\, and other experienced members. Together\, they’ll answer your questions\, share proven tips and give you the confidence to run smooth\, successful contests at the club\, area\, and division levels. This is your chance to learn\, connect\, and get inspired—don’t miss it! \nThe meeting will end at 6:15 pm if there are no attendees. \nDistrict 5 will be conducting in-person the International Speech Contest and the Tall Tales Contest\nDistrict 5 Contest Resource Page: https://d5tm.org/resources/speech-contests-temp-2/ \nArea Contest season starts mid-October 2025 to mid-January 2026.\nDivision Contests run March 2026 to April 2026 \nClubs should plan on conducting their club contest or appointing a member to represent their club prior to their scheduled area contest. Contact your Area Director for more information. \nFor more information contact Jennifer Barber-Frazier\, District Contest Training Chair at jbarberfrazier@gmail.com \n 
URL:https://d5tm.org/event/26771/
END:VEVENT
BEGIN:VEVENT
DTSTART;TZID=America/Los_Angeles:20251009T180000
DTEND;TZID=America/Los_Angeles:20251009T190000
DTSTAMP:20260423T164029
CREATED:20250928T162009Z
LAST-MODIFIED:20250928T172032Z
UID:26756-1760032800-1760036400@d5tm.org
SUMMARY:CONTEST TRAINING - Session 2: Judges\, Ballots & Forms
DESCRIPTION:Session 2: Judges\, Ballots & Forms\nThursday\, October 9\, 2025\n6:00 pm – 7:00 pm \nRegistration Link: https://us06web.zoom.us/meeting/register/vs4FLEHuRx-TTZ2zfQ36eg \nDid you know that it takes 20 volunteers to run a contest? \nThis training is for area/division directors\, contest chairs\, contest volunteers/functionaries\, contestants and members who would like to learn more about how a contest is run. \nDistrict 5 will be conducting in-person the International Speech Contest and the Tall Tales Contest\nDistrict 5 Contest Resource Page: https://d5tm.org/resources/speech-contests-temp-2/ \nArea Contest season starts mid-October 2025 to mid-January 2026.\nDivision Contests run March 2026 to April 2026. \nClubs should plan on conducting their club contest or appointing a member to represent their club prior to their scheduled area contest. Contact your Area Director for more information. \nFor more information contact Jennifer Barber-Frazier\, District Contest Training Chair at jbarberfrazier@gmail.com
URL:https://d5tm.org/event/contest-training-session-2-judges-ballots-forms/
END:VEVENT
BEGIN:VEVENT
DTSTART;TZID=America/Los_Angeles:20251020T180000
DTEND;TZID=America/Los_Angeles:20251020T183000
DTSTAMP:20260423T164029
CREATED:20250928T180639Z
LAST-MODIFIED:20250928T180717Z
UID:26780-1760983200-1760985000@d5tm.org
SUMMARY:CONTEST HOTLINE - Get answers and support
DESCRIPTION:CONTEST HOTLINE – Get answers and support\nOct 20\, 2025 6:00pm – 6:30pm PST \nRemaining Dates: Oct 27\, Nov 3rd\, Nov 10th\, and Nov 17th\nZOOM Link: https://us06web.zoom.us/j/85072332604 \nJoin an incredible team of Contest Trainers—Lucy Boyd-Wilson\, Jim McLaughlin\, Jennifer Barber-Fraizer\, Mark Kramer—along with our Area Directors\, Division Directors\, and other experienced members. Together\, they’ll answer your questions\, share proven tips and give you the confidence to run smooth\, successful contests at the club\, area\, and division levels. This is your chance to learn\, connect\, and get inspired—don’t miss it! \nThe meeting will end at 6:15 pm if there are no attendees. \nDistrict 5 will be conducting in-person the International Speech Contest and the Tall Tales Contest\nDistrict 5 Contest Resource Page: https://d5tm.org/resources/speech-contests-temp-2/ \nArea Contest season starts mid-October 2025 to mid-January 2026.\nDivision Contests run March 2026 to April 2026 \nClubs should plan on conducting their club contest or appointing a member to represent their club prior to their scheduled area contest. Contact your Area Director for more information. \nFor more information contact Jennifer Barber-Frazier\, District Contest Training Chair at jbarberfrazier@gmail.com
URL:https://d5tm.org/event/contest-hotline-get-answers-and-support/
END:VEVENT
BEGIN:VEVENT
DTSTART;TZID=America/Los_Angeles:20251023T180000
DTEND;TZID=America/Los_Angeles:20251023T203000
DTSTAMP:20260423T164029
CREATED:20250807T194025Z
LAST-MODIFIED:20251102T040348Z
UID:26656-1761242400-1761251400@d5tm.org
SUMMARY:Area 1 & Area 6 Contest Results
DESCRIPTION:AREA 1 CONTEST RESULTS\nTall Tales Contest\nJoe Castanho – 1st Place\nChula Vista Toastmasters \nJanet Taylor – 2nd Place\nSweetwater Valley Toastmasters \nInternational Speech Contest\nRichard Cortopassi – 1st Place\nSweetwater Valley Toastmasters \nAaron Freedman – 2nd Place\nChula Vista Toastmasters \nAREA 6 CONTEST RESULTS\nTall Tales Contest\nAlejandra Sandoval – 1st Place\nBalboa Park Club \nJoan Wesley – 2nd Place\nThe Great Communicators \nDoug Evans – 3rd Place\nNaval R&D \nInternational Speech Contest\nRoena Oesting – 1st Place\nThe Great Communicators \nJudy Mandel – 2nd Place\nBalboa Park Club \nAlexandre Maleval – 3rd Place\nNaval R&D \nThank you to all of our contest volunteers!
URL:https://d5tm.org/event/southern-division-area-1-area-6-tall-tales-international-speech-contests/
END:VEVENT
BEGIN:VEVENT
DTSTART;TZID=America/Los_Angeles:20251027T180000
DTEND;TZID=America/Los_Angeles:20251027T183000
DTSTAMP:20260423T164029
CREATED:20250928T181007Z
LAST-MODIFIED:20250928T181007Z
UID:26784-1761588000-1761589800@d5tm.org
SUMMARY:CONTEST HOTLINE - Get answers and support
DESCRIPTION:CONTEST HOTLINE – Get answers and support\nOct 27\, 2025 6:00pm – 6:30pm PST \nRemaining Dates: Nov 3rd\, Nov 10th\, and Nov 17th\nZOOM Link: https://us06web.zoom.us/j/85072332604 \nJoin an incredible team of Contest Trainers—Lucy Boyd-Wilson\, Jim McLaughlin\, Jennifer Barber-Fraizer\, Mark Kramer—along with our Area Directors\, Division Directors\, and other experienced members. Together\, they’ll answer your questions\, share proven tips and give you the confidence to run smooth\, successful contests at the club\, area\, and division levels. This is your chance to learn\, connect\, and get inspired—don’t miss it! \nThe meeting will end at 6:15 pm if there are no attendees. \nDistrict 5 will be conducting in-person the International Speech Contest and the Tall Tales Contest\nDistrict 5 Contest Resource Page: https://d5tm.org/resources/speech-contests-temp-2/ \nArea Contest season starts mid-October 2025 to mid-January 2026.\nDivision Contests run March 2026 to April 2026 \nClubs should plan on conducting their club contest or appointing a member to represent their club prior to their scheduled area contest. Contact your Area Director for more information. \nFor more information contact Jennifer Barber-Frazier\, District Contest Training Chair at jbarberfrazier@gmail.com \n 
URL:https://d5tm.org/event/contest-hotline-get-answers-and-support-2/
END:VEVENT
BEGIN:VEVENT
DTSTART;TZID=America/Los_Angeles:20251029T180000
DTEND;TZID=America/Los_Angeles:20251029T190000
DTSTAMP:20260423T164029
CREATED:20250928T163504Z
LAST-MODIFIED:20250928T164711Z
UID:26763-1761760800-1761764400@d5tm.org
SUMMARY:CONTEST TRAINING - Session 3: Planning & Delivery Excellence
DESCRIPTION:Session 3: Planning & Delivery Excellence\nWednesday\, October 29\, 2025\n6:00 pm – 7:00 pm PST \nRegistration Link: https://us06web.zoom.us/meeting/register/NeHphFsNQQizpbV6afg5eA \nDid you know that it takes 20 volunteers to run a contest? \nThis training is for area/division directors\, contest chairs\, contest volunteers/functionaries\, contestants and members who would like to learn more about how a contest is run. \nDistrict 5 will be conducting in-person the International Speech Contest and the Tall Tales Contest\nDistrict 5 Contest Resource Page: https://d5tm.org/resources/speech-contests-temp-2/ \nArea Contest season starts mid-October 2025 to mid-January 2026.\nDivision Contests run March 2026 to April 2026 \nClubs should plan on conducting their club contest or appointing a member to represent their club prior to their scheduled area contest. Contact your Area Director for more information. \nFor more information contact Jennifer Barber-Frazier\, District Contest Training Chair at jbarberfrazier@gmail.com
URL:https://d5tm.org/event/contest-training-session-3-planning-delivery-excellence/
END:VEVENT
END:VCALENDAR