BEGIN:VCALENDAR
VERSION:2.0
PRODID:-//District 5 Toastmasters - ECPv6.13.2.1//NONSGML v1.0//EN
CALSCALE:GREGORIAN
METHOD:PUBLISH
X-WR-CALNAME:District 5 Toastmasters
X-ORIGINAL-URL:https://d5tm.org
X-WR-CALDESC:Events for District 5 Toastmasters
REFRESH-INTERVAL;VALUE=DURATION:PT1H
X-Robots-Tag:noindex
X-PUBLISHED-TTL:PT1H
BEGIN:VTIMEZONE
TZID:America/Los_Angeles
BEGIN:DAYLIGHT
TZOFFSETFROM:-0800
TZOFFSETTO:-0700
TZNAME:PDT
DTSTART:20250309T100000
END:DAYLIGHT
BEGIN:STANDARD
TZOFFSETFROM:-0700
TZOFFSETTO:-0800
TZNAME:PST
DTSTART:20251102T090000
END:STANDARD
END:VTIMEZONE
BEGIN:VEVENT
DTSTART;TZID=America/Los_Angeles:20251101T130000
DTEND;TZID=America/Los_Angeles:20251101T150000
DTSTAMP:20260423T144953
CREATED:20250930T155314Z
LAST-MODIFIED:20251104T004621Z
UID:26821-1762002000-1762009200@d5tm.org
SUMMARY:Area 21 Contest Results
DESCRIPTION:Tall Tales Contest\nHelen Antoniak – 1st Place\nCo-Op Toastmasters \nInternational Speech Contest\nPaul Davis – 1st Place\nJoyful Hybrid \nArea 21 Director\, Matthew Greenbergs at e5man1995@gmail.com\nContest Chair Regina Fernandez at Regina.chooseheatlh@gmail.com
URL:https://d5tm.org/event/eastern-division-area-21-tall-tales-international-speech-contests/
END:VEVENT
BEGIN:VEVENT
DTSTART;TZID=America/Los_Angeles:20251101T133000
DTEND;TZID=America/Los_Angeles:20251101T170000
DTSTAMP:20260423T144953
CREATED:20250929T030040Z
LAST-MODIFIED:20251104T002713Z
UID:26813-1762003800-1762016400@d5tm.org
SUMMARY:Area 16 & Area 3 Contest Results
DESCRIPTION:AREA 16 CONTEST RESULTS\nTall Tales Contest\n1st Place: Amanda Britton\, FQ10 Toastmasters\n2nd Place: Jim Taylor\, Scripps Teasers Club \nInternational Speech Contest\n1st Place: Naomi Chen\, FQ10 Toastmasters\n2nd Place: Juliet Markstein\, Hi-Fi Speakers \nAREA 3 CONTEST RESULTS\nInternational Speech Contest\nLawrence Martineau – 1st Place\nDowntown Escondido Club \nArea Directors:\nPrashant Anilkumar: Cad16@d5tm.org\nBruce Fahr: Nad3@d5tm.org \n 
URL:https://d5tm.org/event/central-division-area-16-northern-division-area-3-tall-tales-international-speech-contests/
END:VEVENT
BEGIN:VEVENT
DTSTART;TZID=America/Los_Angeles:20251103T180000
DTEND;TZID=America/Los_Angeles:20251103T183000
DTSTAMP:20260423T144953
CREATED:20250928T181215Z
LAST-MODIFIED:20250928T181215Z
UID:26786-1762192800-1762194600@d5tm.org
SUMMARY:CONTEST HOTLINE - Get answers and support
DESCRIPTION:CONTEST HOTLINE – Get answers and support\nNov 3\, 2025 6:00pm – 6:30pm PST \nRemaining Dates: Nov 10th\, and Nov 17th\nZOOM Link: https://us06web.zoom.us/j/85072332604 \nJoin an incredible team of Contest Trainers—Lucy Boyd-Wilson\, Jim McLaughlin\, Jennifer Barber-Fraizer\, Mark Kramer—along with our Area Directors\, Division Directors\, and other experienced members. Together\, they’ll answer your questions\, share proven tips and give you the confidence to run smooth\, successful contests at the club\, area\, and division levels. This is your chance to learn\, connect\, and get inspired—don’t miss it! \nThe meeting will end at 6:15 pm if there are no attendees. \nDistrict 5 will be conducting in-person the International Speech Contest and the Tall Tales Contest\nDistrict 5 Contest Resource Page: https://d5tm.org/resources/speech-contests-temp-2/ \nArea Contest season starts mid-October 2025 to mid-January 2026.\nDivision Contests run March 2026 to April 2026 \nClubs should plan on conducting their club contest or appointing a member to represent their club prior to their scheduled area contest. Contact your Area Director for more information. \nFor more information contact Jennifer Barber-Frazier\, District Contest Training Chair at jbarberfrazier@gmail.com \n 
URL:https://d5tm.org/event/contest-hotline-get-answers-and-support-3/
END:VEVENT
BEGIN:VEVENT
DTSTART;TZID=America/Los_Angeles:20251108T093000
DTEND;TZID=America/Los_Angeles:20251108T133000
DTSTAMP:20260423T144953
CREATED:20251026T154220Z
LAST-MODIFIED:20251110T223702Z
UID:26871-1762594200-1762608600@d5tm.org
SUMMARY:Area 8\, 9 & 13 Contest Results
DESCRIPTION:AREA 8 CONTEST RESULTS\nTall Tales\nElizabeth Santillanez – 1st Place\nUCSD Torrey Pines Speakers \nInternational Speech\nMargarita Pinhas – 1st Place\nShalom Speakers Toastmasters Club \nAREA 9 CONTEST RESULTS\nTall Tales\nSalam Alchi – 1st Place\nSan Diego Toastmasters 7\nKaren Kaufman – 2nd Place\nLiberty Club\nChase Adams – 3rd Place\nVoyagers Toastmasters Club \nInternational Speech\nJerry Marino – 1st Place\nVoyagers Toastmasters Club\nKaren Kaufman – 2nd Place\nLiberty Club \nAREA 13 CONTEST RESULTS\nTall Tales\nDylan Yuska – 1st Place\nPacific Beach Toastmasters \nInternational Speech\nRose Eben Tataw – 1st Place\nPacific Beach Toastmasters
URL:https://d5tm.org/event/area-13-contests/
END:VEVENT
BEGIN:VEVENT
DTSTART;TZID=America/Los_Angeles:20251110T180000
DTEND;TZID=America/Los_Angeles:20251110T183000
DTSTAMP:20260423T144953
CREATED:20250928T181355Z
LAST-MODIFIED:20250928T181355Z
UID:26788-1762797600-1762799400@d5tm.org
SUMMARY:CONTEST HOTLINE - Get answers and support
DESCRIPTION:CONTEST HOTLINE – Get answers and support\nNov 10\, 2025 6:00pm – 6:30pm PST \nRemaining Date: Nov 17th\nZOOM Link: https://us06web.zoom.us/j/85072332604 \nJoin an incredible team of Contest Trainers—Lucy Boyd-Wilson\, Jim McLaughlin\, Jennifer Barber-Fraizer\, Mark Kramer—along with our Area Directors\, Division Directors\, and other experienced members. Together\, they’ll answer your questions\, share proven tips and give you the confidence to run smooth\, successful contests at the club\, area\, and division levels. This is your chance to learn\, connect\, and get inspired—don’t miss it! \nThe meeting will end at 6:15 pm if there are no attendees. \nDistrict 5 will be conducting in-person the International Speech Contest and the Tall Tales Contest\nDistrict 5 Contest Resource Page: https://d5tm.org/resources/speech-contests-temp-2/ \nArea Contest season starts mid-October 2025 to mid-January 2026.\nDivision Contests run March 2026 to April 2026 \nClubs should plan on conducting their club contest or appointing a member to represent their club prior to their scheduled area contest. Contact your Area Director for more information. \nFor more information contact Jennifer Barber-Frazier\, District Contest Training Chair at jbarberfrazier@gmail.com \n 
URL:https://d5tm.org/event/contest-hotline-get-answers-and-support-4/
END:VEVENT
BEGIN:VEVENT
DTSTART;TZID=America/Los_Angeles:20251115T100000
DTEND;TZID=America/Los_Angeles:20251115T140000
DTSTAMP:20260423T144953
CREATED:20250929T031039Z
LAST-MODIFIED:20251116T075037Z
UID:26816-1763200800-1763215200@d5tm.org
SUMMARY:A 5\, 7\, 10 & 14 Contest Results
DESCRIPTION:CENTRAL DIVISION \nAREA 5 CONTEST RESULTS\nInternational Speech\nEdward Lopatin – 1st Place\nToast of the Coast \nAREA 7 CONTEST RESULTS\nTall Tales\nEdward Lopatin – 1st Place\nHardhats Club \nInternational Speech\nAndrea Marshall – 1st Place\nHardhats Club \nAREA 10 CONTEST RESULTS\nTall Tales\nJennifer Saunders Nasheed – 1st Place\nProfessional Career Speakers \nInternational Speech\nMegan Hurley – 1st Place\nProfessional Career Speakers \nAREA 14 CONTEST RESULTS\nTall Tales\nNikhil Pathare – 1st Place\nInnovative Speakers\nSusan Crandall – 2nd Place\nRancho Bernardo Toastmasters \nInternational Speech\nRonald Franklin – 1st Place\nInnovative Speakers\nMohammed Fredericks – 2nd Place\nToastmasters of Carmel Valley\nAjar Vashisth – 3rd Place\nRancho Bernardo Toastmasters
URL:https://d5tm.org/event/area-10-area-14-contests-from-10am-to-1pm-then-area-5-area-7-contests/
END:VEVENT
BEGIN:VEVENT
DTSTART;TZID=America/Los_Angeles:20251115T100000
DTEND;TZID=America/Los_Angeles:20251115T140000
DTSTAMP:20260423T144953
CREATED:20251007T044907Z
LAST-MODIFIED:20251116T174032Z
UID:26845-1763200800-1763215200@d5tm.org
SUMMARY:A4\, 17\, 19 & 20 Contest Results
DESCRIPTION:EASTERN DIVISION\nAREA 4 CONTEST RESULTS\nTall Tales\nHeidi Martin – 1st Place\nEast County Toastmasters #4405\nRichard Hammett – 2nd Place\nReal Orators Toastmasters Club \nInternational Speech\nEddie Edwards – 1st Place\nStadium Club 1815\nKim Ward – 2nd Place\nReal Orators Toastmasters Club \nAREA 20 CONTEST RESULTS\nTall Tales\nMarianne Grosner – 1st Place\nHarbor Court Toastmasters \nInternational Speech\nMarianne Grosner – 1st Place\nHarbor Court Toastmasters\nHope Anderson – 2nd Place\nSaturday Savants Club \nWESTERN DIVISION\nAREA 17 CONTEST RESULTS\nTall Tales\nRandy Russell – 1st Place\nCoastmasters\nNatalie Rastotska – 2nd Place\nToastmasters of La Jolla\nLexi Galantino – 3rd Place\nSmooth Talkers \nInternational Speech\nSidiqa Hooker – 1st Place\nToastmasters of La Jolla\nMatt (Manpreet) Bains – 2nd Place\nSmooth Talkers \nAREA 19 CONTEST RESULTS\nTall Tales\nLinda Clark – 1st Place\nGolden Triangle Toastmasters\nNaomi Chen – 2nd Place\nLeadership Builders \nInternational Speech\nLinda Clark – 1st Place\nGolden Triangle Toastmasters
URL:https://d5tm.org/event/area-420/
END:VEVENT
BEGIN:VEVENT
DTSTART;TZID=America/Los_Angeles:20251117T180000
DTEND;TZID=America/Los_Angeles:20251117T183000
DTSTAMP:20260423T144953
CREATED:20250928T181557Z
LAST-MODIFIED:20250928T181557Z
UID:26790-1763402400-1763404200@d5tm.org
SUMMARY:CONTEST HOTLINE - Get answers and support
DESCRIPTION:CONTEST HOTLINE – Get answers and support\nNov 17\, 2025\n6:00pm – 6:30pm PST\nZOOM Link: https://us06web.zoom.us/j/85072332604 \nJoin an incredible team of Contest Trainers—Lucy Boyd-Wilson\, Jim McLaughlin\, Jennifer Barber-Fraizer\, Mark Kramer—along with our Area Directors\, Division Directors\, and other experienced members. Together\, they’ll answer your questions\, share proven tips and give you the confidence to run smooth\, successful contests at the club\, area\, and division levels. This is your chance to learn\, connect\, and get inspired—don’t miss it! \nThe meeting will end at 6:15 pm if there are no attendees. \nDistrict 5 will be conducting in-person the International Speech Contest and the Tall Tales Contest\nDistrict 5 Contest Resource Page: https://d5tm.org/resources/speech-contests-temp-2/ \nArea Contest season starts mid-October 2025 to mid-January 2026.\nDivision Contests run March 2026 to April 2026 \nClubs should plan on conducting their club contest or appointing a member to represent their club prior to their scheduled area contest. Contact your Area Director for more information. \nFor more information contact Jennifer Barber-Frazier\, District Contest Training Chair at jbarberfrazier@gmail.com \n 
URL:https://d5tm.org/event/contest-hotline-get-answers-and-support-5/
END:VEVENT
BEGIN:VEVENT
DTSTART;TZID=America/Los_Angeles:20251119T180000
DTEND;TZID=America/Los_Angeles:20251119T193000
DTSTAMP:20260423T144953
CREATED:20251117T033213Z
LAST-MODIFIED:20251117T034346Z
UID:26943-1763575200-1763580600@d5tm.org
SUMMARY:CLUB OFFICER TRAINERS OPPORTUNITY
DESCRIPTION:CLUB OFFICER TRAINERS OPPORTUNITY FOR 2ND ROUND OF CLUB OFFICER TRAINING\nWednesday\, Nov 19\, 2025\n6:00pm – 7:15pm \nRegistration Link: https://us06web.zoom.us/meeting/register/dWttuRghQEGPcwDxyykYaA\n102-Training Basics \nDistrict 5 invites experienced Club Officers and Past Officers to volunteer and join our team as Club Officer Trainers (COT) for the second round of training (December–February). Your hard-won expertise is crucial to shaping the next generation of 2025/2026 club leaders. This is your chance to pass on your leadership legacy\, connect with dedicated district leaders\, and further refine your training skills. \nWe will cover essential skills\, including:\nThe critical differences between being a speaker and a trainer.\nHow adults effectively learn and retain information.\nStrategies for preparing impactful and memorable training content.\nThe essential dos and don’ts of facilitation and managing participants. \nWhat You Will Gain\nOfficer Credit: Earn credit for conducting a training session\, counting toward your club officer responsibilities.\nSkill Development: Sharpen your online presentation and facilitation skills.\nPathways Credit: Use the training experience to complete a required Pathways project.\nNetworking: Engage with dedicated District and Club leaders and expand your network within the Toastmasters community for future support and opportunities.\nFor more information contact Alberto Alvarado\, PQD at PQD@d5tm.org
URL:https://d5tm.org/event/club-officer-trainers-opportunity/
END:VEVENT
BEGIN:VEVENT
DTSTART;TZID=America/Los_Angeles:20251122T080000
DTEND;TZID=America/Los_Angeles:20251122T110000
DTSTAMP:20260423T144953
CREATED:20251110T220505Z
LAST-MODIFIED:20251130T213113Z
UID:26896-1763798400-1763809200@d5tm.org
SUMMARY:Area 2 Contest Results
DESCRIPTION:Area 2 Tall Tales & International Speech Contest Results\nNo results have been received. \nFor more information contact one of the following: \nArea 2 Director\, Andrew Koning at akoning@crossroadsmission.org\nEastern Division Director\, Craig Schopp at easterndd@d5tm.org\nProgram Quality Director\, Alberto Alvarado at pqd@d5tm.org
URL:https://d5tm.org/event/area-2-contests/
END:VEVENT
BEGIN:VEVENT
DTSTART;TZID=America/Los_Angeles:20251122T090000
DTEND;TZID=America/Los_Angeles:20251122T123000
DTSTAMP:20260423T144953
CREATED:20251024T180428Z
LAST-MODIFIED:20251208T005656Z
UID:26865-1763802000-1763814600@d5tm.org
SUMMARY:Area 12 Contest Results
DESCRIPTION:Area 12 Tall Tales & International Speech Contest Results\nNo results have been received. \nFor more information contact one of the following: \nArea 12 Director\, Andres Avalos at aavalos.arq@gmail.com\nSouthern Division Director\, Johnny Gogue at gogue942@hotmail.com\nProgram Quality Director\, Alberto Alvarado at pqd@d5tm.org
URL:https://d5tm.org/event/area-12-contests/
END:VEVENT
END:VCALENDAR