BEGIN:VCALENDAR
VERSION:2.0
PRODID:-//District 5 Toastmasters - ECPv6.13.2.1//NONSGML v1.0//EN
CALSCALE:GREGORIAN
METHOD:PUBLISH
X-WR-CALNAME:District 5 Toastmasters
X-ORIGINAL-URL:https://d5tm.org
X-WR-CALDESC:Events for District 5 Toastmasters
REFRESH-INTERVAL;VALUE=DURATION:PT1H
X-Robots-Tag:noindex
X-PUBLISHED-TTL:PT1H
BEGIN:VTIMEZONE
TZID:America/Los_Angeles
BEGIN:DAYLIGHT
TZOFFSETFROM:-0800
TZOFFSETTO:-0700
TZNAME:PDT
DTSTART:20250309T100000
END:DAYLIGHT
BEGIN:STANDARD
TZOFFSETFROM:-0700
TZOFFSETTO:-0800
TZNAME:PST
DTSTART:20251102T090000
END:STANDARD
END:VTIMEZONE
BEGIN:VEVENT
DTSTART;TZID=America/Los_Angeles:20251201T120000
DTEND;TZID=America/Los_Angeles:20251201T130000
DTSTAMP:20260423T131654
CREATED:20251117T023533Z
LAST-MODIFIED:20251117T024158Z
UID:26918-1764590400-1764594000@d5tm.org
SUMMARY:LUNCHTIME CLUB OFFICER TRAINING - TREASURER & SAA
DESCRIPTION:LUNCHTIME CLUB OFFICER TRAINING – TREASURER & SAA\nMonday\, Dec 1\, 2025 – ONLINE\n12:00 pm – 1:00 pm PST \nRegistration link: https://us06web.zoom.us/meeting/register/Pz31GadiQw2r8gS9zPCmMA \nThis training is for club officers who will take/remain in office as of January 1\, 2026. \n1310-club-leadership-handbook_Revised 06-2025 – read about your role prior to the training and bring any questions you have with you; this is an interactive training and participation is expected. \nNEW DCP REQUIREMENTS FOR 2025-2026 \nAGENDA:\n-11:50 AM ZOOM Room opens\n-12:00 PM training called to order\n-12:05 PM Training begins with a District Update followed by Breakout Rooms per club officer role. \nIMPORTANT: Anyone joining the meeting after 12:15 PM will not receive credit. \nNOTE:\n1) If you hold the same club officer role in multiple clubs you will receive credit for that role for your multiple clubs.\n2) You must attend the Zoom training for a MINIMUM of 50 minutes to receive credit\n3) If you hold multiple club officer roles\, you must attend training for each role – e.g. if you are a Secretary-Treasurer. You need to attend training for secretary role AND the treasurer role; if you are a VPE in one club and a President in another (or both of these in the same club)\, you must attend training for the President role AND the VPE role.
URL:https://d5tm.org/event/26918/
END:VEVENT
BEGIN:VEVENT
DTSTART;TZID=America/Los_Angeles:20251203T120000
DTEND;TZID=America/Los_Angeles:20251203T130000
DTSTAMP:20260423T131654
CREATED:20251117T024529Z
LAST-MODIFIED:20251117T024529Z
UID:26923-1764763200-1764766800@d5tm.org
SUMMARY:Lunch Time Club Officer Training - President\, VPE & Secretary.
DESCRIPTION:Lunch Time Club Officer Training – President\, VPE & Secretary.\nWednesday\, Dec 3\, 2025 – ONLINE\n12:00 pm – 1:00 pm PST \nRegistration link: https://us06web.zoom.us/meeting/register/5eFmCU2XQ_WLBuPtZDdnZQ \nThis training is for club officers who will take/remain in office as of January 1\, 2026. \n1310-club-leadership-handbook_Revised 06-2025 – read about your role prior to the training and bring any questions you have with you; this is an interactive training and participation is expected. \nNEW DCP REQUIREMENTS FOR 2025-2026 \nAGENDA:\n-11:50 AM ZOOM Room opens\n-12:00 PM training called to order\n-12:05 PM Training begins with a District Update followed by Breakout Rooms per club officer role. \nIMPORTANT: Anyone joining the meeting after 12:15 PM will not receive credit. \nNOTE:\n1) If you hold the same club officer role in multiple clubs you will receive credit for that role for your multiple clubs.\n2) You must attend the Zoom training for a MINIMUM of 50 minutes to receive credit\n3) If you hold multiple club officer roles\, you must attend training for each role – e.g. if you are a Secretary-Treasurer. You need to attend training for secretary role AND the treasurer role; if you are a VPE in one club and a President in another (or both of these in the same club)\, you must attend training for the President role AND the VPE role.
URL:https://d5tm.org/event/lunch-time-club-officer-training-president-vpe-secretary-2/
END:VEVENT
BEGIN:VEVENT
DTSTART;TZID=America/Los_Angeles:20251204T120000
DTEND;TZID=America/Los_Angeles:20251204T130000
DTSTAMP:20260423T131654
CREATED:20251117T025222Z
LAST-MODIFIED:20251117T025352Z
UID:26926-1764849600-1764853200@d5tm.org
SUMMARY:Lunch Time Club Officer Training - VPM & VPPR
DESCRIPTION:Lunch Time Club Officer Training – VPM & VPPR\nThursday\, Dec 4\, 2025 – ONLINE\n12:00 pm – 1:00 pm PST \nRegistration link: https://us06web.zoom.us/meeting/register/7d4fPYAcTZmSpy0yKRuxaQ \nThis training is for club officers who will take/remain in office as of January 1\, 2026. \n1310-club-leadership-handbook_Revised 06-2025 – read about your role prior to the training and bring any questions you have with you; this is an interactive training and participation is expected. \nNEW DCP REQUIREMENTS FOR 2025-2026 \nAGENDA:\n-11:50 AM ZOOM Room opens\n-12:00 PM training called to order\n-12:05 PM Training begins with a District Update followed by Breakout Rooms per club officer role. \nIMPORTANT: Anyone joining the meeting after 12:15 PM will not receive credit. \nNOTE:\n1) If you hold the same club officer role in multiple clubs you will receive credit for that role for your multiple clubs.\n2) You must attend the Zoom training for a MINIMUM of 50 minutes to receive credit\n3) If you hold multiple club officer roles\, you must attend training for each role – e.g. if you are a Secretary-Treasurer. You need to attend training for secretary role AND the treasurer role; if you are a VPE in one club and a President in another (or both of these in the same club)\, you must attend training for the President role AND the VPE role.
URL:https://d5tm.org/event/26926/
END:VEVENT
BEGIN:VEVENT
DTSTART;TZID=America/Los_Angeles:20251206T080000
DTEND;TZID=America/Los_Angeles:20251206T080000
DTSTAMP:20260423T131654
CREATED:20250718T200037Z
LAST-MODIFIED:20251208T011638Z
UID:26610-1765008000-1765008000@d5tm.org
SUMMARY:Area 11\,15 and 18 Contest Results
DESCRIPTION:NORTHERN DIVISION\nAREA CONTEST RESULTS\nArea 11\, 15 and 18 Tall Tales & International Speech Contests! \nAREA 11\nTALL TALES\n1st Place: Janet Cook Keville\nEncinitas Toastmasters \n2nd Place: Bob Ransome\nDel Mar Toastmasters \nINTERNATIONAL SPEECH\n1st Place: Bob Ransome \nDel Mar Toastmasters \n2nd Place: Terri Price\nEncinitas Toastmasters \n  \nAREA 15\nTALL TALES\n1st Place: Chauncey Murray\nFrontwave Toastmasters \n2nd Place: Catherine Greitzer\nFallbrook Village Toastmaster \n3rd Place: Brient Woods\nCarlsbad-Oceanside \nINTERNATIONAL SPEECH\n1st Place: Nathaniel Borie\nCarlsbad-Oceanside Club \n2nd Place: Paul Kildani\nImprovicus ToastMasters \n3rd Place: Carole Hodges\nFallbrook Village Toastmasters \n  \nAREA 18\nTALL TALES\n1st Place: Thomas Holland\nVista Sunrise Toastmasters \n2nd Place: Jason Ritchey\nExpressions Unlimited Toastmasters \nINTERNATIONAL SPEECH\n1st Place: Gemma Callander\nVista Sunrise Toastmasters \n2nd Place: Cory Murphy\nExpressions Unlimited Toastmasters \n  \nContest Co-Chair Contacts:\nLilian Neuman\, AD 15 – Cell 760-213-4750 and Jennifer Barber-Frazier\, Northern Division Director and AD 18 – Cell 760-717-5252
URL:https://d5tm.org/event/area-contests-for-northern-division/
END:VEVENT
END:VCALENDAR