BEGIN:VCALENDAR
VERSION:2.0
PRODID:-//District 5 Toastmasters - ECPv6.13.2.1//NONSGML v1.0//EN
CALSCALE:GREGORIAN
METHOD:PUBLISH
X-WR-CALNAME:District 5 Toastmasters
X-ORIGINAL-URL:https://d5tm.org
X-WR-CALDESC:Events for District 5 Toastmasters
REFRESH-INTERVAL;VALUE=DURATION:PT1H
X-Robots-Tag:noindex
X-PUBLISHED-TTL:PT1H
BEGIN:VTIMEZONE
TZID:America/Los_Angeles
BEGIN:DAYLIGHT
TZOFFSETFROM:-0800
TZOFFSETTO:-0700
TZNAME:PDT
DTSTART:20260308T100000
END:DAYLIGHT
BEGIN:STANDARD
TZOFFSETFROM:-0700
TZOFFSETTO:-0800
TZNAME:PST
DTSTART:20261101T090000
END:STANDARD
END:VTIMEZONE
BEGIN:VEVENT
DTSTART;TZID=America/Los_Angeles:20260112T180000
DTEND;TZID=America/Los_Angeles:20260112T190000
DTSTAMP:20260423T114722
CREATED:20251223T185556Z
LAST-MODIFIED:20251227T180225Z
UID:26975-1768240800-1768244400@d5tm.org
SUMMARY:EVENING CLUB OFFICER TRAINING - PRESIDENT\, VP EDUCATION & SECRETARY
DESCRIPTION:EVENING CLUB OFFICER TRAINING – PRESIDENT\, VP EDUCATION & SECRETARY\nMonday\, January 12\, 2026 – ONLINE\n6:00 pm – 7:00 pm PST \nRegistration link: PRESIDENT\, VP EDUCATION & SECRETARY \nThis training is for club officers who will take/remain in office as of January 1\, 2026. \n1310-club-leadership-handbook_Revised 06-2025 – read about your role prior to the training and bring any questions you have with you; this is an interactive training and participation is expected. \nNEW DCP REQUIREMENTS FOR 2025-2026 \nAGENDA:\n-5:50 PM ZOOM Room opens\n-6:00 PM training called to order\n-6:05 PM Training begins with a District Update followed by Breakout Rooms per club officer role. \nIMPORTANT: Anyone joining the meeting after 6:15 PM will not receive credit. \nNOTE:\n1) If you hold the same club officer role in multiple clubs you will receive credit for that role for your multiple clubs.\n2) You must attend the Zoom training for a MINIMUM of 50 minutes to receive credit\n3) If you hold multiple club officer roles\, you must attend training for each role – e.g. if you are a Secretary-Treasurer. You need to attend training for secretary role AND the treasurer role; if you are a VPE in one club and a President in another (or both of these in the same club)\, you must attend training for the President role AND the VPE role.
URL:https://d5tm.org/event/evening-club-officer-training-president-vp-education-secretary-2/
END:VEVENT
BEGIN:VEVENT
DTSTART;TZID=America/Los_Angeles:20260113T180000
DTEND;TZID=America/Los_Angeles:20260113T190000
DTSTAMP:20260423T114722
CREATED:20251223T190712Z
LAST-MODIFIED:20251227T180019Z
UID:26980-1768327200-1768330800@d5tm.org
SUMMARY:EVENING CLUB OFFICER TRAINING - VP MEMBERSHIP & VP PUBLIC RELATIONS
DESCRIPTION:EVENING CLUB OFFICER TRAINING – VP MEMBERSHIP & VP PUBLIC RELATIONS\nTuesday\, January 13\, 2026 – ONLINE\n6:00 pm – 7:00 pm PST \nRegistration link: VP MEMBERSHIP & VP PUBLIC RELATIONS \nThis training is for club officers who will take/remain in office as of January 1\, 2026. \n1310-club-leadership-handbook_Revised 06-2025 – read about your role prior to the training and bring any questions you have with you; this is an interactive training and participation is expected. \nNEW DCP REQUIREMENTS FOR 2025-2026 \nAGENDA:\n-5:50 PM ZOOM Room opens\n-6:00 PM training called to order\n-6:05 PM Training begins with a District Update followed by Breakout Rooms per club officer role. \nIMPORTANT: Anyone joining the meeting after 6:15 PM will not receive credit. \nNOTE:\n1) If you hold the same club officer role in multiple clubs you will receive credit for that role for your multiple clubs.\n2) You must attend the Zoom training for a MINIMUM of 50 minutes to receive credit\n3) If you hold multiple club officer roles\, you must attend training for each role – e.g. if you are a Secretary-Treasurer. You need to attend training for secretary role AND the treasurer role; if you are a VPE in one club and a President in another (or both of these in the same club)\, you must attend training for the President role AND the VPE role.
URL:https://d5tm.org/event/evening-club-officer-training-vp-membership-vp-public-relations-2/
END:VEVENT
BEGIN:VEVENT
DTSTART;TZID=America/Los_Angeles:20260114T180000
DTEND;TZID=America/Los_Angeles:20260114T190000
DTSTAMP:20260423T114722
CREATED:20251117T031523Z
LAST-MODIFIED:20251227T181229Z
UID:26938-1768413600-1768417200@d5tm.org
SUMMARY:EVENING CLUB OFFICER TRAINING - TREASURER & SAA
DESCRIPTION:EVENING CLUB OFFICER TRAINING – TREASURER & SAA\nWednesday\, January 14\, 2026 – ONLINE\n6:00 pm – 7:00 pm PST \nRegistration link: https://us06web.zoom.us/meeting/register/K4hxTN8ZQTSNtiSp-0qldQ \nThis training is for club officers who will take/remain in office as of January 1\, 2026. \n1310-club-leadership-handbook_Revised 06-2025 – read about your role prior to the training and bring any questions you have with you; this is an interactive training and participation is expected. \nNEW DCP REQUIREMENTS FOR 2025-2026 \nAGENDA:\n-5:50 PM ZOOM Room opens\n-6:00 PM training called to order\n-6:05 PM Training begins with a District Update followed by Breakout Rooms per club officer role. \nIMPORTANT: Anyone joining the meeting after 6:15 PM will not receive credit. \nNOTE:\n1) If you hold the same club officer role in multiple clubs you will receive credit for that role for your multiple clubs.\n2) You must attend the Zoom training for a MINIMUM of 50 minutes to receive credit\n3) If you hold multiple club officer roles\, you must attend training for each role – e.g. if you are a Secretary-Treasurer. You need to attend training for secretary role AND the treasurer role; if you are a VPE in one club and a President in another (or both of these in the same club)\, you must attend training for the President role AND the VPE role.
URL:https://d5tm.org/event/evening-club-officer-training-vp-membership-vp-public-relations/
END:VEVENT
BEGIN:VEVENT
DTSTART;TZID=America/Los_Angeles:20260115T080000
DTEND;TZID=America/Los_Angeles:20260115T170000
DTSTAMP:20260423T114722
CREATED:20260113T030907Z
LAST-MODIFIED:20260113T031452Z
UID:27078-1768464000-1768496400@d5tm.org
SUMMARY:Call For Nominations 2026-2027
DESCRIPTION:Lead the Future of the new Founder’s District\nServe as a Founder’s District Leader\nFor the 2026–2027 Program Year\nOn July 1\, 2026\, Founder’s District\, District 5\, and District 100 (Division S) will officially merge to form the new Founder’s District. \nThis historic transition offers a unique opportunity to help shape the future of our district — and we invite you to consider being part of the inaugural leadership team. \nWe are seeking dedicated Toastmasters who are passionate about leadership\, service\, and growth to run for the following elected positions: \n\nDistrict Director\nProgram Quality Director\nClub Growth Director\n9 – Division Directors\n\nWhy Serve? \nServing at the district level is one of the most rewarding leadership experiences Toastmasters offers. As a district leader\, you will: \n\nStrengthen your communication and leadership skills\nInfluence district strategy\, member experience\, and club growth\nCollaborate with committed leaders from across our merging districts\nLeave a meaningful and lasting legacy for future generations of Toastmasters\n\nEligibility \nTo run for an elected position\, you must: \n\nBe a paid member in good standing\nMeet the qualifications for the position you are seeking\nComplete\, sign\, and submit all required forms by March 1\, 2026\n\nRead the District Leader Qualifications and Responsibilities document for full details. \nHow to Declare Your Candidacy \nDownload and complete the following forms: \n\n450E — Candidate Application\n450C — District Leader Nominating Form\n450H — District Officer Biographical Information\n450D — District Leader Agreement and Release Statement\n\nSubmit all completed forms along with your photo no later than March 1\, 2026 to: Joyce Persichilli\, DLC Chair at dlc2026@d5tm.org \nOther Resources (available from the Toastmasters International website) \n\nElections Toolkit\nCandidate Campaign Guidelines\nDistrict Campaigns & Elections FAQ\n\nQuestions contact Joyce Persichilli\, DLC Chair at dlc2026@d5tm.org  or call 760-803-5998 \n 
URL:https://d5tm.org/event/call-for-nominations-2026-2027/
END:VEVENT
BEGIN:VEVENT
DTSTART;TZID=America/Los_Angeles:20260117T090000
DTEND;TZID=America/Los_Angeles:20260117T100000
DTSTAMP:20260423T114722
CREATED:20251228T025557Z
LAST-MODIFIED:20251228T025750Z
UID:27014-1768640400-1768644000@d5tm.org
SUMMARY:SATURDAY - CLUB OFFICER TRAINING - ALL CLUB OFFICER ROLES
DESCRIPTION:SATURDAY – CLUB OFFICER TRAINING – ALL ROLES\nSaturday\, January 17\, 2026 – ONLINE\n9:00 am – 10:00 am PST \nRegistration link: ALL CLUB OFFICER ROLES \nThis training is for club officers who will take/remain in office as of January 1\, 2026. \n1310-club-leadership-handbook_Revised 06-2025 – read about your role prior to the training and bring any questions you have with you; this is an interactive training and participation is expected. \nNEW DCP REQUIREMENTS FOR 2025-2026 \nAGENDA:\n-8:50 AM ZOOM Room opens\n-9:00 AM training called to order\n-9:05 AM Training begins with a District Update followed by Breakout Rooms per club officer role. \nIMPORTANT: Anyone joining the meeting after 9:15 AM will not receive credit. \nNOTE:\n1) If you hold the same club officer role in multiple clubs you will receive credit for that role for your multiple clubs.\n2) You must attend the Zoom training for a MINIMUM of 50 minutes to receive credit\n3) If you hold multiple club officer roles\, you must attend training for each role – e.g. if you are a Secretary-Treasurer. You need to attend training for secretary role AND the treasurer role; if you are a VPE in one club and a President in another (or both of these in the same club)\, you must attend training for the President role AND the VPE role.
URL:https://d5tm.org/event/27014/
END:VEVENT
BEGIN:VEVENT
DTSTART;TZID=America/Los_Angeles:20260119T120000
DTEND;TZID=America/Los_Angeles:20260119T130000
DTSTAMP:20260423T114722
CREATED:20251223T191931Z
LAST-MODIFIED:20251227T175756Z
UID:26986-1768824000-1768827600@d5tm.org
SUMMARY:LUNCH TIME CLUB OFFICER TRAINING - PRESIDENT\, VPE & SECRETARY
DESCRIPTION:LUNCH TIME CLUB OFFICER TRAINING – PRESIDENT\, VPE & SECRETARY\nMonday\, January 19\, 2025 – ONLINE\n12:00 pm – 1:00 pm PST \nRegistration link: PRESIDENT\, VPE & SECRETARY \nThis training is for club officers who will take/remain in office as of January 1\, 2026. \n1310-club-leadership-handbook_Revised 06-2025 – read about your role prior to the training and bring any questions you have with you; this is an interactive training and participation is expected. \nNEW DCP REQUIREMENTS FOR 2025-2026 \nAGENDA:\n-11:50 AM ZOOM Room opens\n-12:00 PM training called to order\n-12:05 PM Training begins with a District Update followed by Breakout Rooms per club officer role. \nIMPORTANT: Anyone joining the meeting after 12:15 PM will not receive credit. \nNOTE:\n1) If you hold the same club officer role in multiple clubs you will receive credit for that role for your multiple clubs.\n2) You must attend the Zoom training for a MINIMUM of 50 minutes to receive credit\n3) If you hold multiple club officer roles\, you must attend training for each role – e.g. if you are a Secretary-Treasurer. You need to attend training for secretary role AND the treasurer role; if you are a VPE in one club and a President in another (or both of these in the same club)\, you must attend training for the President role AND the VPE role.
URL:https://d5tm.org/event/26986/
END:VEVENT
BEGIN:VEVENT
DTSTART;TZID=America/Los_Angeles:20260120T120000
DTEND;TZID=America/Los_Angeles:20260120T130000
DTSTAMP:20260423T114722
CREATED:20251223T192748Z
LAST-MODIFIED:20251227T175701Z
UID:26991-1768910400-1768914000@d5tm.org
SUMMARY:LUNCH TIME CLUB OFFICER TRAINING - VP MEMBERSHIP & VP PUBLIC RELATIONS
DESCRIPTION:LUNCH TIME CLUB OFFICER TRAINING – VP MEMBERSHIP & VP PUBLIC RELATIONS\nTuesday\, January 20\, 2026 – ONLINE\n12:00 pm – 1:00 pm PST \nRegistration link: VP MEMBERSHIP & VP PUBLIC RELATIONS \nThis training is for club officers who will take/remain in office as of January 1\, 2026. \n1310-club-leadership-handbook_Revised 06-2025 – read about your role prior to the training and bring any questions you have with you; this is an interactive training and participation is expected. \nNEW DCP REQUIREMENTS FOR 2025-2026 \nAGENDA:\n-11:50 AM ZOOM Room opens\n-12:00 PM training called to order\n-12:05 PM Training begins with a District Update followed by Breakout Rooms per club officer role. \nIMPORTANT: Anyone joining the meeting after 12:15 PM will not receive credit. \nNOTE:\n1) If you hold the same club officer role in multiple clubs you will receive credit for that role for your multiple clubs.\n2) You must attend the Zoom training for a MINIMUM of 50 minutes to receive credit\n3) If you hold multiple club officer roles\, you must attend training for each role – e.g. if you are a Secretary-Treasurer. You need to attend training for secretary role AND the treasurer role; if you are a VPE in one club and a President in another (or both of these in the same club)\, you must attend training for the President role AND the VPE role.
URL:https://d5tm.org/event/lunch-time-club-officer-training-vp-membership-vp-public-relations/
END:VEVENT
BEGIN:VEVENT
DTSTART;TZID=America/Los_Angeles:20260121T120000
DTEND;TZID=America/Los_Angeles:20260121T130000
DTSTAMP:20260423T114722
CREATED:20251227T224834Z
LAST-MODIFIED:20251227T224834Z
UID:27002-1768996800-1769000400@d5tm.org
SUMMARY:LUNCHTIME CLUB OFFICER TRAINING - TREASURER & SAA
DESCRIPTION:LUNCHTIME CLUB OFFICER TRAINING – TREASURER & SAA\nWednesday\, January 21\, 2026 – ONLINE\n12:00 pm – 1:00 pm PST \nRegistration link: TREASURER & SAA \nThis training is for club officers who will take/remain in office as of January 1\, 2026. \n1310-club-leadership-handbook_Revised 06-2025 – read about your role prior to the training and bring any questions you have with you; this is an interactive training and participation is expected. \nNEW DCP REQUIREMENTS FOR 2025-2026 \nAGENDA:\n-11:50 AM ZOOM Room opens\n-12:00 PM training called to order\n-12:05 PM Training begins with a District Update followed by Breakout Rooms per club officer role. \nIMPORTANT: Anyone joining the meeting after 12:15 PM will not receive credit. \nNOTE:\n1) If you hold the same club officer role in multiple clubs you will receive credit for that role for your multiple clubs.\n2) You must attend the Zoom training for a MINIMUM of 50 minutes to receive credit\n3) If you hold multiple club officer roles\, you must attend training for each role – e.g. if you are a Secretary-Treasurer. You need to attend training for secretary role AND the treasurer role; if you are a VPE in one club and a President in another (or both of these in the same club)\, you must attend training for the President role AND the VPE role.
URL:https://d5tm.org/event/lunchtime-club-officer-training-treasurer-saa-5/
END:VEVENT
BEGIN:VEVENT
DTSTART;TZID=America/Los_Angeles:20260124T090000
DTEND;TZID=America/Los_Angeles:20260124T100000
DTSTAMP:20260423T114722
CREATED:20251228T030032Z
LAST-MODIFIED:20251228T030212Z
UID:27018-1769245200-1769248800@d5tm.org
SUMMARY:SATURDAY - CLUB OFFICER TRAINING - ALL CLUB OFFICER ROLES
DESCRIPTION:SATURDAY – CLUB OFFICER TRAINING – ALL CLUB OFFICER ROLES\nSaturday\, January 24\, 2026 – ONLINE\n9:00 am – 10:00 am PST \nRegistration link: ALL CLUB OFFICER ROLES \nThis training is for club officers who will take/remain in office as of January 1\, 2026. \n1310-club-leadership-handbook_Revised 06-2025 – read about your role prior to the training and bring any questions you have with you; this is an interactive training and participation is expected. \nNEW DCP REQUIREMENTS FOR 2025-2026 \nAGENDA:\n-8:50 AM ZOOM Room opens\n-9:00 AM training called to order\n-9:05 AM Training begins with a District Update followed by Breakout Rooms per club officer role. \nIMPORTANT: Anyone joining the meeting after 9:15 AM will not receive credit. \nNOTE:\n1) If you hold the same club officer role in multiple clubs you will receive credit for that role for your multiple clubs.\n2) You must attend the Zoom training for a MINIMUM of 50 minutes to receive credit\n3) If you hold multiple club officer roles\, you must attend training for each role – e.g. if you are a Secretary-Treasurer. You need to attend training for secretary role AND the treasurer role; if you are a VPE in one club and a President in another (or both of these in the same club)\, you must attend training for the President role AND the VPE role.
URL:https://d5tm.org/event/saturday-club-officer-training-all-club-officer-roles/
END:VEVENT
END:VCALENDAR